0.0066666667
0.0000000000
0.0000000000
-0.0066666667
0.0033333333
4.0966666667
