0.8226690000
0.0000000000
0.0000000000
-0.8226690000
56.7040835157
-173.2547017706
