0.8229744821
0.0000000000
0.0000000000
-0.8230449574
56.6462253315
-215.1998000872
