0.8363346741
0.0000000000
0.0000000000
-0.8361421854
51.9892917257
-202.5391027157
