2.1124890000
0.0000000000
0.0000000000
-2.1124890000
1010.2655287983
764.6266016896
