0.8496050000
0.0000000000
0.0000000000
-0.8496050000
51.9959268887
-202.3703838305
