OziExplorer Map Data File Version 2.2
hillo6666666666
hillo6666666666
1 ,Map Code,
WGS 84,, 0.0000, 0.0000,WGS 84
Reserved 1
Reserved 2
Magnetic Variation,,,E
Map Projection,Mercator,PolyCal,No,AutoCalOnly,No,BSBUseWPX,No
Point01,xy, 0, 0,in, deg, 29, 10.2090,N, 111, 2.1437,W, grid, , , ,N
Point02,xy, 225, 0,in, deg, 29, 10.2090,N, 110, 57.5089,W, grid, , , ,N
Point03,xy, 450, 0,in, deg, 29, 10.2090,N, 110, 52.8740,W, grid, , , ,N
Point04,xy, 0, 284,in, deg, 29, 5.0986,N, 111, 2.1437,W, grid, , , ,N
Point05,xy, 225, 284,in, deg, 29, 5.0986,N, 110, 57.5089,W, grid, , , ,N
Point06,xy, 450, 284,in, deg, 29, 5.0986,N, 110, 52.8740,W, grid, , , ,N
Point07,xy, 0, 568,in, deg, 28, 59.9840,N, 111, 2.1437,W, grid, , , ,N
Point08,xy, 225, 568,in, deg, 28, 59.9840,N, 110, 57.5089,W, grid, , , ,N
Point09,xy, 450, 568,in, deg, 28, 59.9840,N, 110, 52.8740,W, grid, , , ,N
Point10,xy, , ,in, deg, , ,N, , ,W, grid, , , ,N
Point11,xy, , ,in, deg, , ,N, , ,W, grid, , , ,N
Point12,xy, , ,in, deg, , ,N, , ,W, grid, , , ,N
Point13,xy, , ,in, deg, , ,N, , ,W, grid, , , ,N
Point14,xy, , ,in, deg, , ,N, , ,W, grid, , , ,N
Point15,xy, , ,in, deg, , ,N, , ,W, grid, , , ,N
Point16,xy, , ,in, deg, , ,N, , ,W, grid, , , ,N
Point17,xy, , ,in, deg, , ,N, , ,W, grid, , , ,N
Point18,xy, , ,in, deg, , ,N, , ,W, grid, , , ,N
Point19,xy, , ,in, deg, , ,N, , ,W, grid, , , ,N
Point20,xy, , ,in, deg, , ,N, , ,W, grid, , , ,N
Point21,xy, , ,in, deg, , ,N, , ,W, grid, , , ,N
Point22,xy, , ,in, deg, , ,N, , ,W, grid, , , ,N
Point23,xy, , ,in, deg, , ,N, , ,W, grid, , , ,N
Point24,xy, , ,in, deg, , ,N, , ,W, grid, , , ,N
Point25,xy, , ,in, deg, , ,N, , ,W, grid, , , ,N
Point26,xy, , ,in, deg, , ,N, , ,W, grid, , , ,N
Point27,xy, , ,in, deg, , ,N, , ,W, grid, , , ,N
Point28,xy, , ,in, deg, , ,N, , ,W, grid, , , ,N
Point29,xy, , ,in, deg, , ,N, , ,W, grid, , , ,N
Point30,xy, , ,in, deg, , ,N, , ,W, grid, , , ,N
Projection Setup,,,,,,,,,,
Map Feature = MF ; Map Comment = MC These follow if they exist
Track File = TF These follow if they exist
Moving Map Parameters = MM? These follow if they exist
MM0,Yes
MMPNUM,4
MMPXY,1,0,0
MMPXY,2,450,0
MMPXY,3,450,568
MMPXY,4,0,568
MMPLL,1, -111.035728, 29.170150
MMPLL,2, -110.881233, 29.170150
MMPLL,3, -110.881233, 28.999733
MMPLL,4, -111.035728, 28.999733
MM1B,33.399149
MOP,Map Open Position,0,0
IWH,Map Image Width/Height,450,568
