!table
!version 300
!charset WindowsCyrillic

Definition Table
  File "hillo6666666666"
  Type "RASTER"
  (-111.03572845, 29.17014973) (0, 0) Label "Point 1",
  (-110.88123322, 28.99973293) (450, 568) Label "Point 2",
  (-111.03572845, 28.99973293) (0, 568) Label "Point 3",
  (-110.88123322, 29.17014973) (450, 0) Label "Point 4",
  (-110.95848083, 29.08497658) (225, 284) Label "Point 5",
  (-110.95848083, 29.17014973) (225, 0) Label "Point 6",
  (-111.03572845, 29.08497658) (0, 284) Label "Point 7",
  (-110.88123322, 29.08497658) (450, 284) Label "Point 8",
  (-110.95848083, 28.99973293) (225, 568) Label "Point 9",
  CoordSys Earth Projection 1, 104
  Units "degree"
