OziExplorer Map Data File Version 2.2
hillo9999999999999999999999999999999999999999.jpg
hillo9999999999999999999999999999999999999999.jpg
1 ,Map Code,
WGS 84,, 0.0000, 0.0000,WGS 84
Reserved 1
Reserved 2
Magnetic Variation,,,E
Map Projection,Mercator,PolyCal,No,AutoCalOnly,No,BSBUseWPX,No
Point01,xy, 0, 0,in, deg, 29, 7.3124,N, 110, 55.5107,W, grid, , , ,N
Point02,xy, 115, 0,in, deg, 29, 7.3124,N, 110, 53.1418,W, grid, , , ,N
Point03,xy, 230, 0,in, deg, 29, 7.3124,N, 110, 50.7729,W, grid, , , ,N
Point04,xy, 0, 77,in, deg, 29, 5.9266,N, 110, 55.5107,W, grid, , , ,N
Point05,xy, 115, 77,in, deg, 29, 5.9266,N, 110, 53.1418,W, grid, , , ,N
Point06,xy, 230, 77,in, deg, 29, 5.9266,N, 110, 50.7729,W, grid, , , ,N
Point07,xy, 0, 154,in, deg, 29, 4.5405,N, 110, 55.5107,W, grid, , , ,N
Point08,xy, 115, 154,in, deg, 29, 4.5405,N, 110, 53.1418,W, grid, , , ,N
Point09,xy, 230, 154,in, deg, 29, 4.5405,N, 110, 50.7729,W, grid, , , ,N
Point10,xy, , ,in, deg, , ,N, , ,W, grid, , , ,N
Point11,xy, , ,in, deg, , ,N, , ,W, grid, , , ,N
Point12,xy, , ,in, deg, , ,N, , ,W, grid, , , ,N
Point13,xy, , ,in, deg, , ,N, , ,W, grid, , , ,N
Point14,xy, , ,in, deg, , ,N, , ,W, grid, , , ,N
Point15,xy, , ,in, deg, , ,N, , ,W, grid, , , ,N
Point16,xy, , ,in, deg, , ,N, , ,W, grid, , , ,N
Point17,xy, , ,in, deg, , ,N, , ,W, grid, , , ,N
Point18,xy, , ,in, deg, , ,N, , ,W, grid, , , ,N
Point19,xy, , ,in, deg, , ,N, , ,W, grid, , , ,N
Point20,xy, , ,in, deg, , ,N, , ,W, grid, , , ,N
Point21,xy, , ,in, deg, , ,N, , ,W, grid, , , ,N
Point22,xy, , ,in, deg, , ,N, , ,W, grid, , , ,N
Point23,xy, , ,in, deg, , ,N, , ,W, grid, , , ,N
Point24,xy, , ,in, deg, , ,N, , ,W, grid, , , ,N
Point25,xy, , ,in, deg, , ,N, , ,W, grid, , , ,N
Point26,xy, , ,in, deg, , ,N, , ,W, grid, , , ,N
Point27,xy, , ,in, deg, , ,N, , ,W, grid, , , ,N
Point28,xy, , ,in, deg, , ,N, , ,W, grid, , , ,N
Point29,xy, , ,in, deg, , ,N, , ,W, grid, , , ,N
Point30,xy, , ,in, deg, , ,N, , ,W, grid, , , ,N
Projection Setup,,,,,,,,,,
Map Feature = MF ; Map Comment = MC These follow if they exist
Track File = TF These follow if they exist
Moving Map Parameters = MM? These follow if they exist
MM0,Yes
MMPNUM,4
MMPXY,1,0,0
MMPXY,2,230,0
MMPXY,3,230,154
MMPXY,4,0,154
MMPLL,1, -110.925179, 29.121874
MMPLL,2, -110.846214, 29.121874
MMPLL,3, -110.846214, 29.075675
MMPLL,4, -110.925179, 29.075675
MM1B,33.394673
MOP,Map Open Position,0,0
IWH,Map Image Width/Height,230,154
