!table
!version 300
!charset WindowsCyrillic

Definition Table
  File "hillo9999999999999999999999999999999999999999.jpg"
  Type "RASTER"
  (-110.92517853, 29.12187361) (0, 0) Label "Point 1",
  (-110.84621429, 29.07567524) (230, 154) Label "Point 2",
  (-110.92517853, 29.07567524) (0, 154) Label "Point 3",
  (-110.84621429, 29.12187361) (230, 0) Label "Point 4",
  (-110.88569641, 29.09877702) (115, 77) Label "Point 5",
  (-110.88569641, 29.12187361) (115, 0) Label "Point 6",
  (-110.92517853, 29.09877702) (0, 77) Label "Point 7",
  (-110.84621429, 29.09877702) (230, 77) Label "Point 8",
  (-110.88569641, 29.07567524) (115, 154) Label "Point 9",
  CoordSys Earth Projection 1, 104
  Units "degree"
