300
0
0
-300
401872.75754
3320303.04021
