0.0002694946
0.0000000000
0.0000000000
-0.0002694946
-109.4169101860
29.1293718349
