0.0002694946
0.0000000000
0.0000000000
-0.0002694946
-109.7602024260
30.9713111524
