0.0002694946
0.0000000000
0.0000000000
-0.0002694946
-110.9101003403
30.4030748545
