0.00013888889
0
0
-0.00013888889
-110.5132245161781
29.4116980406745
