BYTEORDER      I
LAYOUT         BIL
NROWS          1401
NCOLS          1294
NBANDS         1
NBITS          16
BANDROWBYTES   2588
TOTALROWBYTES  2588
BANDGAPBYTES   0
NODATA         32767
ULXMAP         -110.5132245161781
ULYMAP         29.4116980406745
XDIM           0.00013888889
YDIM           0.00013888889
