30
0
0
-30
490785
3236745
