0.00013888889
0
0
-0.00013888889
-109.8512719741
28.5178570892
