0.00024791289108801
0
0
-0.00024791289108801
-109.85114801765445
28.51773313275445
