0.0002572014
0.0000000000
0.0000000000
-0.0002572014
-109.8511433734
28.5177284885
