50.00000000000000
0.00000000000000
0.00000000000000
-50.00000000000000
402596.00000000000000
3318976.00000000000000
