0.00013888889
0
0
-0.00013888889
-110.29552096192501
29.0488529619557
