BYTEORDER      I
LAYOUT         BIL
NROWS          4558
NCOLS          6077
NBANDS         1
NBITS          16
BANDROWBYTES   12154
TOTALROWBYTES  12154
BANDGAPBYTES   0
NODATA         32767
ULXMAP         -110.29552096192501
ULYMAP         29.0488529619557
XDIM           0.00013888889
YDIM           0.00013888889
