25.0000000000
0.0000000000
0.0000000000
-25.0000000000
627889.7500000000
3174748.7500000000
