9.34199879469955
0
0
-9.34579439252336
368217.063239306
3239532.71028037
